BEGIN:VCALENDAR
VERSION:2.0
PRODID:-//Solon Township Fire Department - ECPv6.15.11//NONSGML v1.0//EN
CALSCALE:GREGORIAN
METHOD:PUBLISH
X-ORIGINAL-URL:https://solonfire.org
X-WR-CALDESC:Events for Solon Township Fire Department
REFRESH-INTERVAL;VALUE=DURATION:PT1H
X-Robots-Tag:noindex
X-PUBLISHED-TTL:PT1H
BEGIN:VTIMEZONE
TZID:America/Detroit
BEGIN:DAYLIGHT
TZOFFSETFROM:-0500
TZOFFSETTO:-0400
TZNAME:EDT
DTSTART:20220313T070000
END:DAYLIGHT
BEGIN:STANDARD
TZOFFSETFROM:-0400
TZOFFSETTO:-0500
TZNAME:EST
DTSTART:20221106T060000
END:STANDARD
BEGIN:DAYLIGHT
TZOFFSETFROM:-0500
TZOFFSETTO:-0400
TZNAME:EDT
DTSTART:20230312T070000
END:DAYLIGHT
BEGIN:STANDARD
TZOFFSETFROM:-0400
TZOFFSETTO:-0500
TZNAME:EST
DTSTART:20231105T060000
END:STANDARD
BEGIN:DAYLIGHT
TZOFFSETFROM:-0500
TZOFFSETTO:-0400
TZNAME:EDT
DTSTART:20240310T070000
END:DAYLIGHT
BEGIN:STANDARD
TZOFFSETFROM:-0400
TZOFFSETTO:-0500
TZNAME:EST
DTSTART:20241103T060000
END:STANDARD
END:VTIMEZONE
BEGIN:VEVENT
DTSTART;TZID=America/Detroit:20231031T180000
DTEND;TZID=America/Detroit:20231031T200000
DTSTAMP:20260422T155749
CREATED:20230508T233404Z
LAST-MODIFIED:20230508T233404Z
UID:92-1698775200-1698782400@solonfire.org
SUMMARY:Trick-or-Treat with Firefighters
DESCRIPTION:
URL:https://solonfire.org/event/trick-or-treat-with-firefighters/
LOCATION:Solon Township Fire Department\, 2305 19 Mile Rd. NE\, Cedar Springs\, MI\, 49319\, United States
END:VEVENT
END:VCALENDAR